BEGIN:VCALENDAR
VERSION:2.0
PRODID:-//AudioTheme 2.3.8
BEGIN:VEVENT
UID:urn:uuid:6aa3d421-7bb3-4754-9362-ee41d249d4d8
URL:https://mitchmcvicker.com/concerts/gig-2748/
DTSTART;VALUE=DATE:20040415
SUMMARY:Honeywell Center
LOCATION:Honeywell Center\, Wabash\, IN
END:VEVENT
END:VCALENDAR
