BEGIN:VCALENDAR
VERSION:2.0
PRODID:-//AudioTheme 2.3.8
BEGIN:VEVENT
UID:urn:uuid:ab0f9648-afb0-4da3-9ab6-7f5480f6c526
URL:https://mitchmcvicker.com/concerts/gig-2746/
DTSTART;VALUE=DATE:20040409
SUMMARY:Brownsburg Christian Church
LOCATION:Brownsburg Christian Church\, Brownsburg\, IN
END:VEVENT
END:VCALENDAR
