BEGIN:VCALENDAR
VERSION:2.0
PRODID:-//AudioTheme 2.3.8
BEGIN:VEVENT
UID:urn:uuid:e20ca72c-28f9-462a-bd15-dbde114c4813
URL:https://mitchmcvicker.com/concerts/gig-2744/
DTSTART;VALUE=DATE:20040403
SUMMARY:Alma Performing Arts Center
LOCATION:Alma Performing Arts Center\, Alma\, AR
END:VEVENT
END:VCALENDAR
