BEGIN:VCALENDAR
VERSION:2.0
PRODID:-//AudioTheme 2.3.8
BEGIN:VEVENT
UID:urn:uuid:73979e89-748a-4d26-8f9d-db70af0200b1
URL:https://mitchmcvicker.com/concerts/gig-2742/
DTSTART;VALUE=DATE:20040402
SUMMARY:First Baptist Church
LOCATION:First Baptist Church\, Mountain Home\, AR
END:VEVENT
END:VCALENDAR
