BEGIN:VCALENDAR
VERSION:2.0
PRODID:-//AudioTheme 2.3.8
BEGIN:VEVENT
UID:urn:uuid:9d385b5e-9d4d-41bd-bc20-d67df23759e9
URL:https://mitchmcvicker.com/concerts/gig-2740/
DTSTART;VALUE=DATE:20040401
SUMMARY:First Baptist Church
LOCATION:First Baptist Church\, Poplar Bluff\, MO
END:VEVENT
END:VCALENDAR
