BEGIN:VCALENDAR
VERSION:2.0
PRODID:-//AudioTheme 2.3.8
BEGIN:VEVENT
UID:urn:uuid:f4c2e993-be9f-4983-a63e-3c304daa5d89
URL:https://mitchmcvicker.com/concerts/gig-2735/
DTSTART;VALUE=DATE:20040327
SUMMARY:St. Marks United Methodist Church
LOCATION:St. Marks United Methodist Church\, Decatur\, IN
END:VEVENT
END:VCALENDAR
