BEGIN:VCALENDAR
VERSION:2.0
PRODID:-//AudioTheme 2.3.8
BEGIN:VEVENT
UID:urn:uuid:1411dd9e-3f85-4a2e-a700-2fd42c29645a
URL:https://mitchmcvicker.com/concerts/gig-2733/
DTSTART;VALUE=DATE:20040326
SUMMARY:New City Cafe
LOCATION:New City Cafe\, Knoxville\, TN
END:VEVENT
END:VCALENDAR
