BEGIN:VCALENDAR
VERSION:2.0
PRODID:-//AudioTheme 2.3.8
BEGIN:VEVENT
UID:urn:uuid:b1306c8b-58e4-4a64-8c7e-5c4def28ccc1
URL:https://mitchmcvicker.com/concerts/gig-2731/
DTSTART;VALUE=DATE:20040322
SUMMARY:Dakota State University-Trojan Center Student Union
LOCATION:Dakota State University-Trojan Center Student Union\, Madison\, SD
END:VEVENT
END:VCALENDAR
