BEGIN:VCALENDAR
VERSION:2.0
PRODID:-//AudioTheme 2.3.8
BEGIN:VEVENT
UID:urn:uuid:3d929402-5903-490e-a3e3-3edee2a4facb
URL:https://mitchmcvicker.com/concerts/gig-2729/
DTSTART;VALUE=DATE:20040321
SUMMARY:American ReformedChurch
LOCATION:American ReformedChurch\, Worthington\, MN
END:VEVENT
END:VCALENDAR
