BEGIN:VCALENDAR
VERSION:2.0
PRODID:-//AudioTheme 2.3.8
BEGIN:VEVENT
UID:urn:uuid:00b48dfd-0dd6-4513-8abb-56dc1a8d5072
URL:https://mitchmcvicker.com/concerts/gig-2728/
DTSTART;VALUE=DATE:20040320
SUMMARY:Lighthouse Cafe
LOCATION:Lighthouse Cafe\, Rockford\, IL
END:VEVENT
END:VCALENDAR
