BEGIN:VCALENDAR
VERSION:2.0
PRODID:-//AudioTheme 2.3.8
BEGIN:VEVENT
UID:urn:uuid:6af93b15-db7d-48b8-a07d-53c20657c40d
URL:https://mitchmcvicker.com/concerts/gig-2726/
DTSTART;VALUE=DATE:20040319
SUMMARY:Cup O'Joy Coffeehouse
LOCATION:Cup O'Joy Coffeehouse\, Green Bay\, WI
END:VEVENT
END:VCALENDAR
