BEGIN:VCALENDAR
VERSION:2.0
PRODID:-//AudioTheme 2.3.8
BEGIN:VEVENT
UID:urn:uuid:3be4ccae-302f-4821-a4dc-fbcd937ed01a
URL:https://mitchmcvicker.com/concerts/gig-2724/
DTSTART;VALUE=DATE:20040314
SUMMARY:Hillcrest Baptist Church
LOCATION:Hillcrest Baptist Church\, Pensacola\, FL
END:VEVENT
END:VCALENDAR
