BEGIN:VCALENDAR
VERSION:2.0
PRODID:-//AudioTheme 2.3.8
BEGIN:VEVENT
UID:urn:uuid:d2a8b531-0269-416c-9819-50723ab56ff3
URL:https://mitchmcvicker.com/concerts/gig-2720/
DTSTART;VALUE=DATE:20040312
SUMMARY:Faith Church
LOCATION:Faith Church\, New Orleans\, LA
END:VEVENT
END:VCALENDAR
