BEGIN:VCALENDAR
VERSION:2.0
PRODID:-//AudioTheme 2.3.8
BEGIN:VEVENT
UID:urn:uuid:74995bd8-77ad-4e3d-b25e-13b94352f9de
URL:https://mitchmcvicker.com/concerts/gig-2718/
DTSTART;VALUE=DATE:20040306
SUMMARY:Woodward High School Auditorium
LOCATION:Woodward High School Auditorium\, Woodward\, OK
END:VEVENT
END:VCALENDAR
