BEGIN:VCALENDAR
VERSION:2.0
PRODID:-//AudioTheme 2.3.8
BEGIN:VEVENT
UID:urn:uuid:c0528558-2305-4929-b60a-77df5fb4f41b
URL:https://mitchmcvicker.com/concerts/gig-2716/
DTSTART;VALUE=DATE:20040305
SUMMARY:Garden View Assembly of God
LOCATION:Garden View Assembly of God\, Elk City\, OK
END:VEVENT
END:VCALENDAR
