BEGIN:VCALENDAR
VERSION:2.0
PRODID:-//AudioTheme 2.3.8
BEGIN:VEVENT
UID:urn:uuid:ec3270c3-27f4-4155-bac3-06d4a860359b
URL:https://mitchmcvicker.com/concerts/gig-2714/
DTSTART;VALUE=DATE:20040304
SUMMARY:First Assembly of God
LOCATION:First Assembly of God\, Lawton\, OK
END:VEVENT
END:VCALENDAR
