BEGIN:VCALENDAR
VERSION:2.0
PRODID:-//AudioTheme 2.3.8
BEGIN:VEVENT
UID:urn:uuid:1fa69cab-a8b2-439d-8efb-d22699e39561
URL:https://mitchmcvicker.com/concerts/gig-2712/
DTSTART;VALUE=DATE:20040221
SUMMARY:Westside Church
LOCATION:Westside Church\, Omaha\, NE
END:VEVENT
END:VCALENDAR
