BEGIN:VCALENDAR
VERSION:2.0
PRODID:-//AudioTheme 2.3.8
BEGIN:VEVENT
UID:urn:uuid:4013e69a-08d5-4bf8-8c9a-345b17058431
URL:https://mitchmcvicker.com/concerts/gig-2710/
DTSTART;VALUE=DATE:20040220
SUMMARY:St. Matthews United Methodist Church
LOCATION:St. Matthews United Methodist Church\, Belleville\, IL
END:VEVENT
END:VCALENDAR
