BEGIN:VCALENDAR
VERSION:2.0
PRODID:-//AudioTheme 2.3.8
BEGIN:VEVENT
UID:urn:uuid:767870a5-c6c5-4e86-83a8-416fa6cda848
URL:https://mitchmcvicker.com/concerts/gig-2708/
DTSTART;VALUE=DATE:20040215
SUMMARY:Washington High School Auditorium
LOCATION:Washington High School Auditorium\, Washington\, IN
END:VEVENT
END:VCALENDAR
