BEGIN:VCALENDAR
VERSION:2.0
PRODID:-//AudioTheme 2.3.8
BEGIN:VEVENT
UID:urn:uuid:27e34cad-c991-4ebd-b59e-9e2b59aadac5
URL:https://mitchmcvicker.com/concerts/gig-2706/
DTSTART;VALUE=DATE:20040214
SUMMARY:Restoration Christian Church
LOCATION:Restoration Christian Church\, Sellersburg\, IN
END:VEVENT
END:VCALENDAR
