BEGIN:VCALENDAR
VERSION:2.0
PRODID:-//AudioTheme 2.3.8
BEGIN:VEVENT
UID:urn:uuid:3be6ac85-899a-418b-9c0c-e2e68d618037
URL:https://mitchmcvicker.com/concerts/gig-2704/
DTSTART;VALUE=DATE:20040213
SUMMARY:Community Church/Greenwood
LOCATION:Community Church/Greenwood\, Greenwood\, IN
END:VEVENT
END:VCALENDAR
