BEGIN:VCALENDAR
VERSION:2.0
PRODID:-//AudioTheme 2.3.8
BEGIN:VEVENT
UID:urn:uuid:36077964-3daa-4cdc-9ee7-09557476d959
URL:https://mitchmcvicker.com/concerts/gig-2702/
DTSTART;VALUE=DATE:20040212
SUMMARY:Faith Lutheran Church
LOCATION:Faith Lutheran Church\, Troy\, MI
END:VEVENT
END:VCALENDAR
