BEGIN:VCALENDAR
VERSION:2.0
PRODID:-//AudioTheme 2.3.8
BEGIN:VEVENT
UID:urn:uuid:3758ebf7-0dac-48b6-b44f-bf0ff69c05b0
URL:https://mitchmcvicker.com/concerts/gig-2700/
DTSTART;VALUE=DATE:20040207
SUMMARY:Higher Ground Baptist Church
LOCATION:Higher Ground Baptist Church\, Kingsport\, TN
END:VEVENT
END:VCALENDAR
