BEGIN:VCALENDAR
VERSION:2.0
PRODID:-//AudioTheme 2.3.8
BEGIN:VEVENT
UID:urn:uuid:98cb6671-2e6b-488f-9565-2eee62570ea8
URL:https://mitchmcvicker.com/concerts/gig-2698/
DTSTART;VALUE=DATE:20040206
SUMMARY:First Baptist Church
LOCATION:First Baptist Church\, Humbolt\, TN
END:VEVENT
END:VCALENDAR
