BEGIN:VCALENDAR
VERSION:2.0
PRODID:-//AudioTheme 2.3.8
BEGIN:VEVENT
UID:urn:uuid:0bfa2e43-2723-4d64-b0f0-c75c26634ef8
URL:https://mitchmcvicker.com/concerts/gig-2696/
DTSTART;VALUE=DATE:20040205
SUMMARY:Harvest Cathedral
LOCATION:Harvest Cathedral\, Macon\, GA
END:VEVENT
END:VCALENDAR
