BEGIN:VCALENDAR
VERSION:2.0
PRODID:-//AudioTheme 2.3.8
BEGIN:VEVENT
UID:urn:uuid:f1d01c42-7a23-46c3-9db5-f681e0ef43d3
URL:https://mitchmcvicker.com/concerts/gig-2694/
DTSTART;VALUE=DATE:20040131
SUMMARY:Calvary Baptist Church
LOCATION:Calvary Baptist Church\, Savannah\, GA
END:VEVENT
END:VCALENDAR
