BEGIN:VCALENDAR
VERSION:2.0
PRODID:-//AudioTheme 2.3.8
BEGIN:VEVENT
UID:urn:uuid:386cd2d6-c295-41e8-a881-0e720d8cc7ff
URL:https://mitchmcvicker.com/concerts/gig-2692/
DTSTART;VALUE=DATE:20040130
SUMMARY:Hillcrest Baptist Church
LOCATION:Hillcrest Baptist Church\, Anniston\, AL
END:VEVENT
END:VCALENDAR
