BEGIN:VCALENDAR
VERSION:2.0
PRODID:-//AudioTheme 2.3.8
BEGIN:VEVENT
UID:urn:uuid:e71d5873-a7d3-4bca-9cce-1f8b11b26e9d
URL:https://mitchmcvicker.com/concerts/gig-2690/
DTSTART;VALUE=DATE:20040129
SUMMARY:Covington Center
LOCATION:Covington Center\, Andalusia\, AL
END:VEVENT
END:VCALENDAR
