BEGIN:VCALENDAR
VERSION:2.0
PRODID:-//AudioTheme 2.3.8
BEGIN:VEVENT
UID:urn:uuid:7867aae7-4fb2-4374-b3f1-15b2b4924aec
URL:https://mitchmcvicker.com/concerts/gig-2688/
DTSTART;VALUE=DATE:20040124
SUMMARY:Prince Avenue Baptist Church
LOCATION:Prince Avenue Baptist Church\, Athens\, GA
END:VEVENT
END:VCALENDAR
