BEGIN:VCALENDAR
VERSION:2.0
PRODID:-//AudioTheme 2.3.8
BEGIN:VEVENT
UID:urn:uuid:5cb1b1d7-4bdf-4662-80f3-1d377d609a3c
URL:https://mitchmcvicker.com/concerts/gig-2686/
DTSTART;VALUE=DATE:20040123
SUMMARY:Warren Baptist Church
LOCATION:Warren Baptist Church\, Augusta\, GA
END:VEVENT
END:VCALENDAR
