BEGIN:VCALENDAR
VERSION:2.0
PRODID:-//AudioTheme 2.3.8
BEGIN:VEVENT
UID:urn:uuid:d5cff70f-203c-416b-8de1-3ae63420cb8a
URL:https://mitchmcvicker.com/concerts/gig-2684/
DTSTART;VALUE=DATE:20040122
SUMMARY:Emmanuel Baptist Church
LOCATION:Emmanuel Baptist Church\, Huntsville\, SC
END:VEVENT
END:VCALENDAR
