BEGIN:VCALENDAR
VERSION:2.0
PRODID:-//AudioTheme 2.3.8
BEGIN:VEVENT
UID:urn:uuid:51624e6e-17dc-4311-be47-6dd7b8a69760
URL:https://mitchmcvicker.com/concerts/gig-2682/
DTSTART;VALUE=DATE:20051204
SUMMARY:Alamance Presbyterian Church
LOCATION:Alamance Presbyterian Church\, Greensboro\, NC
END:VEVENT
END:VCALENDAR
