BEGIN:VCALENDAR
VERSION:2.0
PRODID:-//AudioTheme 2.3.8
BEGIN:VEVENT
UID:urn:uuid:990ef62f-ae3d-41e4-97c6-efce9218977e
URL:https://mitchmcvicker.com/concerts/gig-2679/
DTSTART;VALUE=DATE:20051202
SUMMARY:Harvest Baptist Church
LOCATION:Harvest Baptist Church\, Burlington\, NC
END:VEVENT
END:VCALENDAR
