BEGIN:VCALENDAR
VERSION:2.0
PRODID:-//AudioTheme 2.3.8
BEGIN:VEVENT
UID:urn:uuid:14d26aa8-567b-4bc6-b0e1-78be71fe749c
URL:https://mitchmcvicker.com/concerts/gig-2677/
DTSTART;VALUE=DATE:20051023
SUMMARY:Waycross Evangelical Church
LOCATION:Waycross Evangelical Church\, Brooklyn Park\, MN
END:VEVENT
END:VCALENDAR
