BEGIN:VCALENDAR
VERSION:2.0
PRODID:-//AudioTheme 2.3.8
BEGIN:VEVENT
UID:urn:uuid:0573b569-4fea-42d7-92b9-451c451ccf76
URL:https://mitchmcvicker.com/concerts/gig-2675/
DTSTART;VALUE=DATE:20051023
SUMMARY:First United Presbyterian Church
LOCATION:First United Presbyterian Church\, Green Bay\, WI
END:VEVENT
END:VCALENDAR
