BEGIN:VCALENDAR
VERSION:2.0
PRODID:-//AudioTheme 2.3.8
BEGIN:VEVENT
UID:urn:uuid:a998ca9e-98f9-462d-b8a1-219ebd98106f
URL:https://mitchmcvicker.com/concerts/gig-2674/
DTSTART;VALUE=DATE:20051022
SUMMARY:Cup O'Joy Coffeehouse
LOCATION:Cup O'Joy Coffeehouse\, Green Bay\, WI
END:VEVENT
END:VCALENDAR
