BEGIN:VCALENDAR
VERSION:2.0
PRODID:-//AudioTheme 2.3.8
BEGIN:VEVENT
UID:urn:uuid:04d0bd92-7494-4693-b68c-1641fbe1bfd8
URL:https://mitchmcvicker.com/concerts/gig-2673/
DTSTART;VALUE=DATE:20051019
SUMMARY:Great Lakes Christian College
LOCATION:Great Lakes Christian College\, Lansing\, MI
END:VEVENT
END:VCALENDAR
