BEGIN:VCALENDAR
VERSION:2.0
PRODID:-//AudioTheme 2.3.8
BEGIN:VEVENT
UID:urn:uuid:8ec5f1b2-2ac4-486d-8f2a-e698d7b0e3a4
URL:https://mitchmcvicker.com/concerts/gig-2671/
DTSTART;VALUE=DATE:20051018
SUMMARY:Green House at Trinity Church
LOCATION:Green House at Trinity Church\, Lansing\, MI
END:VEVENT
END:VCALENDAR
