BEGIN:VCALENDAR
VERSION:2.0
PRODID:-//AudioTheme 2.3.8
BEGIN:VEVENT
UID:urn:uuid:e301f4af-7f02-475d-a33f-c1eeee0fea73
URL:https://mitchmcvicker.com/concerts/gig-2669/
DTSTART;VALUE=DATE:20051016
SUMMARY:Burlingame Federated Church
LOCATION:Burlingame Federated Church\, Burlingame\, KS
END:VEVENT
END:VCALENDAR
