BEGIN:VCALENDAR
VERSION:2.0
PRODID:-//AudioTheme 2.3.8
BEGIN:VEVENT
UID:urn:uuid:60c4a16c-73a7-4277-b143-5bc643ba5dc3
URL:https://mitchmcvicker.com/concerts/gig-2668/
DTSTART;VALUE=DATE:20051015
SUMMARY:Woodland Lakes Community Church
LOCATION:Woodland Lakes Community Church\, Wichita\, KS
END:VEVENT
END:VCALENDAR
