BEGIN:VCALENDAR
VERSION:2.0
PRODID:-//AudioTheme 2.3.8
BEGIN:VEVENT
UID:urn:uuid:ccd57c61-0b82-4a38-bea0-9b235a4ada92
URL:https://mitchmcvicker.com/concerts/gig-2666/
DTSTART;VALUE=DATE:20051014
SUMMARY:Valley View United Methodist Church
LOCATION:Valley View United Methodist Church\, Overland Park\, KS
END:VEVENT
END:VCALENDAR
