BEGIN:VCALENDAR
VERSION:2.0
PRODID:-//AudioTheme 2.3.8
BEGIN:VEVENT
UID:urn:uuid:e03f49ae-92ed-4cc4-ad7b-56d9e4fa85aa
URL:https://mitchmcvicker.com/concerts/gig-2665/
DTSTART;VALUE=DATE:20051012
SUMMARY:Western Illinois University Wesley Foundation
LOCATION:Western Illinois University Wesley Foundation\, Macomb\, IL
END:VEVENT
END:VCALENDAR
