BEGIN:VCALENDAR
VERSION:2.0
PRODID:-//AudioTheme 2.3.8
BEGIN:VEVENT
UID:urn:uuid:e745c7f9-1840-400b-9196-593643e2399f
URL:https://mitchmcvicker.com/concerts/gig-2663/
DTSTART;VALUE=DATE:20051010
SUMMARY:Judson College Chapel
LOCATION:Judson College Chapel\, Elgin\, IL
END:VEVENT
END:VCALENDAR
