BEGIN:VCALENDAR
VERSION:2.0
PRODID:-//AudioTheme 2.3.8
BEGIN:VEVENT
UID:urn:uuid:b1c32844-524e-4ea4-9de2-890ea6e5d144
URL:https://mitchmcvicker.com/concerts/gig-2660/
DTSTART;VALUE=DATE:20051008
SUMMARY:Jesus Alive Coffeehouse
LOCATION:Jesus Alive Coffeehouse\, Chicago (Bensenville)\, IL
END:VEVENT
END:VCALENDAR
