BEGIN:VCALENDAR
VERSION:2.0
PRODID:-//AudioTheme 2.3.8
BEGIN:VEVENT
UID:urn:uuid:9c028aa2-2ec3-44f8-a891-61746efdff40
URL:https://mitchmcvicker.com/concerts/gig-2656/
DTSTART;VALUE=DATE:20051005
SUMMARY:Cornerstone Calvary Chapel
LOCATION:Cornerstone Calvary Chapel\, Howell\, NJ
END:VEVENT
END:VCALENDAR
