BEGIN:VCALENDAR
VERSION:2.0
PRODID:-//AudioTheme 2.3.8
BEGIN:VEVENT
UID:urn:uuid:1de741b4-da41-4f44-8ca1-18ccbe8f9bbf
URL:https://mitchmcvicker.com/concerts/gig-2655/
DTSTART;VALUE=DATE:20051002
SUMMARY:Otterbein United Methodist Church
LOCATION:Otterbein United Methodist Church\, Duncannon\, PA
END:VEVENT
END:VCALENDAR
