BEGIN:VCALENDAR
VERSION:2.0
PRODID:-//AudioTheme 2.3.8
BEGIN:VEVENT
UID:urn:uuid:6086b39a-ac94-4d11-92d0-87823dea35d4
URL:https://mitchmcvicker.com/concerts/gig-2649/
DTSTART;VALUE=DATE:20050929
SUMMARY:Park Elementary
LOCATION:Park Elementary\, Chardon\, OH
END:VEVENT
END:VCALENDAR
