BEGIN:VCALENDAR
VERSION:2.0
PRODID:-//AudioTheme 2.3.8
BEGIN:VEVENT
UID:urn:uuid:054908fd-53d5-4bb7-8f91-fe251ab87a8b
URL:https://mitchmcvicker.com/concerts/gig-2648/
DTSTART;VALUE=DATE:20050928
SUMMARY:Maple City Baptist
LOCATION:Maple City Baptist\, Monmouth\, IL
END:VEVENT
END:VCALENDAR
