BEGIN:VCALENDAR
VERSION:2.0
PRODID:-//AudioTheme 2.3.8
BEGIN:VEVENT
UID:urn:uuid:d3b7f3c7-7e98-4f76-a985-1e8ece50a6f6
URL:https://mitchmcvicker.com/concerts/gig-2647/
DTSTART;VALUE=DATE:20050927
SUMMARY:St. Paul Catholic Church
LOCATION:St. Paul Catholic Church\, Valparaiso\, IN
END:VEVENT
END:VCALENDAR
