BEGIN:VCALENDAR
VERSION:2.0
PRODID:-//AudioTheme 2.3.8
BEGIN:VEVENT
UID:urn:uuid:8aa1a91f-fde2-48a3-8218-27378ae45703
URL:https://mitchmcvicker.com/concerts/gig-2646/
DTSTART;VALUE=DATE:20050925
SUMMARY:Holton Community Building
LOCATION:Holton Community Building\, Holton\, IN
END:VEVENT
END:VCALENDAR
